BEGIN:VCALENDAR
VERSION:2.0
PRODID:-//Flood Gallery Fine Art Center - ECPv6.15.15//NONSGML v1.0//EN
CALSCALE:GREGORIAN
METHOD:PUBLISH
X-ORIGINAL-URL:https://floodgallery.org
X-WR-CALDESC:Events for Flood Gallery Fine Art Center
REFRESH-INTERVAL;VALUE=DURATION:PT1H
X-Robots-Tag:noindex
X-PUBLISHED-TTL:PT1H
BEGIN:VTIMEZONE
TZID:UTC
BEGIN:STANDARD
TZOFFSETFROM:+0000
TZOFFSETTO:+0000
TZNAME:UTC
DTSTART:20250101T000000
END:STANDARD
END:VTIMEZONE
BEGIN:VEVENT
DTSTART;TZID=UTC:20260502T110000
DTEND;TZID=UTC:20260503T170000
DTSTAMP:20260424T221131
CREATED:20260422T040505Z
LAST-MODIFIED:20260422T040615Z
UID:1339-1777719600-1777827600@floodgallery.org
SUMMARY:"Totem" Call for Artists!
DESCRIPTION:“Totem” Group Open Exhibition at Flood Gallery\nCall for art: Mixed media • collage • sculpture • fiber art • ceramic • drawing • painting • photography found object • printmaking • all media!\nEntries due May 2-3! \n• No entry fee!\n• All perspectives\, styles\, & media\n• Limit 2 works each\n• Personal interpretation of “Totem” as theme\n• Artwork must be framed/ready to hang/display.\n• All artwork is for sale; Flood Gallery retains 35%\, so price accordingly.\n• Label each artwork with name\, title\, medium\, price\n• Email artist bio/statement to attheflood@outlook.com\n• Labeled artwork MUST be hand-delivered to Flood Gallery on Sat-Sun\, May 2-3\, 11am – 5pm\, at 802 Fairview Rd. Suite 1200\, Asheville\, NC 28803 \nOpening reception Saturday\, May 16\, 3-7pm.\nLight refreshments available\, live music TBD. \nShow runs through July.
URL:https://floodgallery.org/event/totem-call-for-artists/
LOCATION:Flood Gallery Fine Art Center\, 802 Fairview Rd. Suite 1200\, Asheville\, NC\, 28803\, United States
CATEGORIES:Call for Artists
ATTACH;FMTTYPE=image/jpeg:https://floodgallery.org/wp-content/uploads/Call-for-Artists-May2026-Totem-graphic.jpg
ORGANIZER;CN="Flood Gallery":MAILTO:carlos@floodgallery.org
END:VEVENT
END:VCALENDAR