BEGIN:VCALENDAR
VERSION:2.0
PRODID:-//Flood Gallery Fine Art Center - ECPv6.15.15//NONSGML v1.0//EN
CALSCALE:GREGORIAN
METHOD:PUBLISH
X-WR-CALNAME:Flood Gallery Fine Art Center
X-ORIGINAL-URL:https://floodgallery.org
X-WR-CALDESC:Events for Flood Gallery Fine Art Center
REFRESH-INTERVAL;VALUE=DURATION:PT1H
X-Robots-Tag:noindex
X-PUBLISHED-TTL:PT1H
BEGIN:VTIMEZONE
TZID:UTC
BEGIN:STANDARD
TZOFFSETFROM:+0000
TZOFFSETTO:+0000
TZNAME:UTC
DTSTART:20250101T000000
END:STANDARD
END:VTIMEZONE
BEGIN:VEVENT
DTSTART;TZID=UTC:20260403T190000
DTEND;TZID=UTC:20260403T210000
DTSTAMP:20260425T013127
CREATED:20260407T000357Z
LAST-MODIFIED:20260407T001139Z
UID:1294-1775242800-1775250000@floodgallery.org
SUMMARY:Foreign Film Friday: The City of Lost Children
DESCRIPTION:The City of Lost Children\, 116min\, French\, Fantasy\, 1995 by Caro & Jeunet\, 5 wins\, 14 Nom. \nClassic movies from around the world every Friday!\nDonation-based admission. Light refreshments available.
URL:https://floodgallery.org/event/foreign-film-friday-the-city-of-lost-children/
LOCATION:Flood Gallery Fine Art Center\, 802 Fairview Rd. Suite 1200\, Asheville\, NC\, 28803\, United States
CATEGORIES:movie night
ATTACH;FMTTYPE=image/jpeg:https://floodgallery.org/wp-content/uploads/Foreign-Film-Friday.jpg
ORGANIZER;CN="Flood Gallery":MAILTO:carlos@floodgallery.org
END:VEVENT
BEGIN:VEVENT
DTSTART;TZID=UTC:20260409T180000
DTEND;TZID=UTC:20260409T203000
DTSTAMP:20260425T013127
CREATED:20260406T234102Z
LAST-MODIFIED:20260406T234102Z
UID:1273-1775757600-1775766600@floodgallery.org
SUMMARY:True Home Open Mic
DESCRIPTION:Join us every Thursday from 6:30pm – 8:30pm for music\, poetry\, comedy and stories performed by our favorite local artists! Feel free to bring your own food/drinks or anything you’d like to share! Supportive listening room in an art gallery setting. \nSign up begins at 6pm\, show begins at 6:30pm. Each performer will have twelve minutes\, and the show is always livestreamed on our Facebook account.
URL:https://floodgallery.org/event/true-home-open-mic-53/
LOCATION:Flood Gallery Fine Art Center\, 802 Fairview Rd. Suite 1200\, Asheville\, NC\, 28803\, United States
CATEGORIES:open mic,poetry
ATTACH;FMTTYPE=image/jpeg:https://floodgallery.org/wp-content/uploads/WEB-FBheader-OPEN-MIC-02-2026-1.jpg
ORGANIZER;CN="Flood Gallery":MAILTO:carlos@floodgallery.org
END:VEVENT
BEGIN:VEVENT
DTSTART;TZID=UTC:20260410T190000
DTEND;TZID=UTC:20260410T203000
DTSTAMP:20260425T013127
CREATED:20260407T000613Z
LAST-MODIFIED:20260409T002315Z
UID:1296-1775847600-1775853000@floodgallery.org
SUMMARY:Foreign Film Friday: Weeping Camel
DESCRIPTION:Weeping Camel\, 93 min\, Mongolian\, Drama 2003\, Drama by Davaa & Falorni\, 10 wins 9 Nom. \nClassic movies from around the world every Friday! \nMongolian docudrama about a nomadic family in the Gobi Desert attempting to save a rare white camel calf rejected by its mother after a difficult birth. The family journeys to find a solution to compel the mother to accept her calf. \nDonation-based admission. Light refreshments available. \nFlood Gallery Fine Art Center\nCentrally located just off I-240 Exit 8; River Ridge Business Center\, Suite 1200\, 802 Fairview Rd\, Asheville 28803 (behind Hamrick’s and Sun Soo Martial Arts\, next to Hot Yoga Asheville and Asheville Dance Theater)
URL:https://floodgallery.org/event/foreign-film-friday-weeping-camel/
LOCATION:Flood Gallery Fine Art Center\, 802 Fairview Rd. Suite 1200\, Asheville\, NC\, 28803\, United States
CATEGORIES:movie night
ATTACH;FMTTYPE=image/jpeg:https://floodgallery.org/wp-content/uploads/1b0ca6ff-b917-4cb7-b6f0-ec2ebda6af34.jpg
ORGANIZER;CN="Flood Gallery":MAILTO:carlos@floodgallery.org
END:VEVENT
BEGIN:VEVENT
DTSTART;TZID=UTC:20260413T183000
DTEND;TZID=UTC:20260413T203000
DTSTAMP:20260425T013127
CREATED:20260207T202625Z
LAST-MODIFIED:20260409T003936Z
UID:1193-1776105000-1776112200@floodgallery.org
SUMMARY:Flooded Poetry & Prose
DESCRIPTION:Poetry & prose open mic every Monday at 6:30 PM\, starring YOU plus occasional Featured Readers!\nAll styles of poetry/spoken word are welcome! Eight minutes per reader. Supportive listening room in a gallery setting. \n(Call Carlos at 828-273-3332 if you’d like to be a featured poet.) \n    .  \n.
URL:https://floodgallery.org/event/flooded-poetry-prose-7/
LOCATION:Flood Gallery Fine Art Center\, 802 Fairview Rd. Suite 1200\, Asheville\, NC\, 28803\, United States
CATEGORIES:open mic,poetry,prose
ATTACH;FMTTYPE=image/jpeg:https://floodgallery.org/wp-content/uploads/WEB-FBheader-POETRY.jpg
ORGANIZER;CN="Flood Gallery":MAILTO:carlos@floodgallery.org
END:VEVENT
BEGIN:VEVENT
DTSTART;TZID=UTC:20260416T180000
DTEND;TZID=UTC:20260416T203000
DTSTAMP:20260425T013127
CREATED:20260406T234258Z
LAST-MODIFIED:20260406T234258Z
UID:1275-1776362400-1776371400@floodgallery.org
SUMMARY:True Home Open Mic
DESCRIPTION:Join us every Thursday from 6:30pm – 8:30pm for music\, poetry\, comedy and stories performed by our favorite local artists! Feel free to bring your own food/drinks or anything you’d like to share! Supportive listening room in an art gallery setting. \nSign up begins at 6pm\, show begins at 6:30pm. Each performer will have twelve minutes\, and the show is always livestreamed on our Facebook account.
URL:https://floodgallery.org/event/true-home-open-mic-54/
LOCATION:Flood Gallery Fine Art Center\, 802 Fairview Rd. Suite 1200\, Asheville\, NC\, 28803\, United States
CATEGORIES:open mic,poetry
ATTACH;FMTTYPE=image/jpeg:https://floodgallery.org/wp-content/uploads/WEB-FBheader-OPEN-MIC-02-2026-1.jpg
ORGANIZER;CN="Flood Gallery":MAILTO:carlos@floodgallery.org
END:VEVENT
BEGIN:VEVENT
DTSTART;TZID=UTC:20260417T190000
DTEND;TZID=UTC:20260417T210000
DTSTAMP:20260425T013127
CREATED:20260407T000826Z
LAST-MODIFIED:20260409T002515Z
UID:1298-1776452400-1776459600@floodgallery.org
SUMMARY:Foreign Film Friday: Babette's Feast
DESCRIPTION:Babette’s Feast\, 103 min\, Danish/French\,\n1988\, Drama by Axel\, Oscar\, 11 wins\, 9 Nom. \nClassic movies from around the world every Friday! \nDenmark\, 1871. Having fled France\, cook Babette Hersant arrives in West Jutland and soon becomes a housekeeper for two unmarried sisters. But when Babette wins the lottery\, she decides to spend the money on a sumptuous meal for these melancholic and frugal people. \nDonation-based admission. Light refreshments available. \nCentrally located just off I-240 Exit 8; River Ridge Business Center\, Suite 1200\, 802 Fairview Rd\, Asheville 28803 (behind Hamrick’s and Sun Soo Martial Arts\, next to Hot Yoga Asheville and Asheville Dance Theater)
URL:https://floodgallery.org/event/foreign-film-friday-babettes-feast/
LOCATION:Flood Gallery Fine Art Center\, 802 Fairview Rd. Suite 1200\, Asheville\, NC\, 28803\, United States
CATEGORIES:movie night
ATTACH;FMTTYPE=image/jpeg:https://floodgallery.org/wp-content/uploads/Babette2.jpg
ORGANIZER;CN="Flood Gallery":MAILTO:carlos@floodgallery.org
END:VEVENT
BEGIN:VEVENT
DTSTART;TZID=UTC:20260418T183000
DTEND;TZID=UTC:20260418T210000
DTSTAMP:20260425T013127
CREATED:20260408T011238Z
LAST-MODIFIED:20260408T011239Z
UID:1305-1776537000-1776546000@floodgallery.org
SUMMARY:Live Concert by Thee Dragonfly
DESCRIPTION:NEW BAND ~ DEBUT SHOW! \nThee Dragonfly\, a 4-piece “Electric Rhythm Music” band makes its debut at Flood Gallery\, featuring nostalgia-invoking ballads and fresh new originals\, plus a few powerhouse covers thrown in for good measure.  \nThe members are: Terry Goodwin on guitar\, percussion\, and vocals; James Kamp on guitar\, harmonica\, keys\, and vocals; Jason Philbeck on bass and vocals; Greg Alley on drums and vocals. Original songs by Terry Goodwin and James Kamp. \nJoin us for an evening of music\, dancing and good times\, and help celebrate this new band’s debut! Donation-based admission.
URL:https://floodgallery.org/event/live-concert-by-thee-dragonfly/
LOCATION:Flood Gallery Fine Art Center\, 802 Fairview Rd. Suite 1200\, Asheville\, NC\, 28803\, United States
CATEGORIES:Concert,Live Music
ATTACH;FMTTYPE=image/jpeg:https://floodgallery.org/wp-content/uploads/theedfly-fullc.jpg
ORGANIZER;CN="Flood Gallery":MAILTO:carlos@floodgallery.org
END:VEVENT
BEGIN:VEVENT
DTSTART;TZID=UTC:20260420T183000
DTEND;TZID=UTC:20260420T203000
DTSTAMP:20260425T013127
CREATED:20260409T004252Z
LAST-MODIFIED:20260409T004252Z
UID:1324-1776709800-1776717000@floodgallery.org
SUMMARY:Flooded Poetry & Prose
DESCRIPTION:Poetry & prose open mic every Monday at 6:30 PM\, starring YOU plus occasional Featured Readers!\nAll styles of poetry/spoken word are welcome! Eight minutes per reader. Supportive listening room in a gallery setting. \n(Call Carlos at 828-273-3332 if you’d like to be a featured poet.) \n    .  \n.
URL:https://floodgallery.org/event/flooded-poetry-prose-8/
LOCATION:Flood Gallery Fine Art Center\, 802 Fairview Rd. Suite 1200\, Asheville\, NC\, 28803\, United States
CATEGORIES:open mic,poetry,prose
ATTACH;FMTTYPE=image/jpeg:https://floodgallery.org/wp-content/uploads/WEB-FBheader-POETRY.jpg
ORGANIZER;CN="Flood Gallery":MAILTO:carlos@floodgallery.org
END:VEVENT
BEGIN:VEVENT
DTSTART;TZID=UTC:20260423T180000
DTEND;TZID=UTC:20260423T203000
DTSTAMP:20260425T013127
CREATED:20260406T234439Z
LAST-MODIFIED:20260406T234440Z
UID:1277-1776967200-1776976200@floodgallery.org
SUMMARY:True Home Open Mic
DESCRIPTION:Join us every Thursday from 6:30pm – 8:30pm for music\, poetry\, comedy and stories performed by our favorite local artists! Feel free to bring your own food/drinks or anything you’d like to share! Supportive listening room in an art gallery setting. \nSign up begins at 6pm\, show begins at 6:30pm. Each performer will have twelve minutes\, and the show is always livestreamed on our Facebook account.
URL:https://floodgallery.org/event/true-home-open-mic-55/
LOCATION:Flood Gallery Fine Art Center\, 802 Fairview Rd. Suite 1200\, Asheville\, NC\, 28803\, United States
CATEGORIES:open mic,poetry
ATTACH;FMTTYPE=image/jpeg:https://floodgallery.org/wp-content/uploads/WEB-FBheader-OPEN-MIC-02-2026-1.jpg
ORGANIZER;CN="Flood Gallery":MAILTO:carlos@floodgallery.org
END:VEVENT
BEGIN:VEVENT
DTSTART;TZID=UTC:20260424T190000
DTEND;TZID=UTC:20260424T210000
DTSTAMP:20260425T013127
CREATED:20260407T000949Z
LAST-MODIFIED:20260409T003323Z
UID:1300-1777057200-1777064400@floodgallery.org
SUMMARY:Foreign Film Friday: Tortilla Soup
DESCRIPTION:Tortilla Soup\, 102min\, Spanish\, 2001 Comedy by Ripoll\, 2 wins\, 7 Nom. \nClassic movies from around the world every Friday! \nThree grown sisters\, Maribel (Tamara Mello)\, Leticia (Elizabeth Peña) and Carmen (Jacqueline Obradors) try to cope and live with their father Martin (Héctor Elizondo) ; a veteran chef who is slowly losing his sense of taste. Martin has one simple rule: be at home for Sunday dinner and attendance is both mandatory and non-negotiable. A rift in the family develops when the sisters develop relationships and an obnoxious woman (Raquel Welch) sets her sights on Martin’s affections. \nDonation-based admission. Light refreshments available. \nFlood Gallery Fine Art Center\nCentrally located just off I-240 Exit 8; River Ridge Business Center\, Suite 1200\, 802 Fairview Rd\, Asheville 28803 (behind Hamrick’s and Sun Soo Martial Arts\, next to Hot Yoga Asheville and Asheville Dance Theater)
URL:https://floodgallery.org/event/foreign-film-friday-tortilla-soup/
LOCATION:Flood Gallery Fine Art Center\, 802 Fairview Rd. Suite 1200\, Asheville\, NC\, 28803\, United States
CATEGORIES:movie night
ATTACH;FMTTYPE=image/jpeg:https://floodgallery.org/wp-content/uploads/tortilla-soup.jpg
ORGANIZER;CN="Flood Gallery":MAILTO:carlos@floodgallery.org
END:VEVENT
BEGIN:VEVENT
DTSTART;TZID=UTC:20260427T183000
DTEND;TZID=UTC:20260427T203000
DTSTAMP:20260425T013127
CREATED:20260409T004424Z
LAST-MODIFIED:20260409T004803Z
UID:1326-1777314600-1777321800@floodgallery.org
SUMMARY:Flooded Poetry & Prose
DESCRIPTION:Poetry & prose open mic every Monday at 6:30 PM\, starring YOU plus occasional Featured Readers!\nAll styles of poetry/spoken word are welcome! Eight minutes per reader. Supportive listening room in a gallery setting. \n(Call Carlos at 828-273-3332 if you’d like to be a featured poet.) \n    .  \n.
URL:https://floodgallery.org/event/flooded-poetry-prose-9/
LOCATION:Flood Gallery Fine Art Center\, 802 Fairview Rd. Suite 1200\, Asheville\, NC\, 28803\, United States
CATEGORIES:open mic,poetry,prose
ATTACH;FMTTYPE=image/jpeg:https://floodgallery.org/wp-content/uploads/WEB-FBheader-POETRY.jpg
ORGANIZER;CN="Flood Gallery":MAILTO:carlos@floodgallery.org
END:VEVENT
BEGIN:VEVENT
DTSTART;TZID=UTC:20260428T183000
DTEND;TZID=UTC:20260428T203000
DTSTAMP:20260425T013127
CREATED:20260306T172759Z
LAST-MODIFIED:20260407T001754Z
UID:1254-1777401000-1777408200@floodgallery.org
SUMMARY:Let's Film AVL!
DESCRIPTION:Lights. Camera. Asheville! \nJoin “Let’s Film AVL” at Flood Gallery — Where Local Creatives Turn Ideas Into Movies \n• Every last Tuesday of the month!\n• Creative filmmaking meet up for actors\, filmmakers\, writers\, etc.\n• Focused on developing film ideas\n• Goal is to identify and select a story that will be then filmed by the group! \nMeetup at Flood Gallery Fine Art Center\nCentrally located just off I-240 Exit 8; River Ridge Business Center\, Suite 1200\, 802 Fairview Rd\, Asheville 28803 (behind Hamrick’s and Sun Soo Martial Arts\, next to Hot Yoga Asheville and Asheville Dance Theater) \n  
URL:https://floodgallery.org/event/lets-film-avl-3/
LOCATION:Flood Gallery Fine Art Center\, 802 Fairview Rd. Suite 1200\, Asheville\, NC\, 28803\, United States
CATEGORIES:cathartic writing workshop,Film Workshop,movie night
ATTACH;FMTTYPE=image/jpeg:https://floodgallery.org/wp-content/uploads/Lets-Film-AVL-Header-sm-orange.jpg
ORGANIZER;CN="Flood Gallery":MAILTO:carlos@floodgallery.org
END:VEVENT
BEGIN:VEVENT
DTSTART;TZID=UTC:20260430T180000
DTEND;TZID=UTC:20260430T203000
DTSTAMP:20260425T013127
CREATED:20260406T234617Z
LAST-MODIFIED:20260406T234617Z
UID:1279-1777572000-1777581000@floodgallery.org
SUMMARY:True Home Open Mic
DESCRIPTION:Join us every Thursday from 6:30pm – 8:30pm for music\, poetry\, comedy and stories performed by our favorite local artists! Feel free to bring your own food/drinks or anything you’d like to share! Supportive listening room in an art gallery setting. \nSign up begins at 6pm\, show begins at 6:30pm. Each performer will have twelve minutes\, and the show is always livestreamed on our Facebook account.
URL:https://floodgallery.org/event/true-home-open-mic-56/
LOCATION:Flood Gallery Fine Art Center\, 802 Fairview Rd. Suite 1200\, Asheville\, NC\, 28803\, United States
CATEGORIES:open mic,poetry
ATTACH;FMTTYPE=image/jpeg:https://floodgallery.org/wp-content/uploads/WEB-FBheader-OPEN-MIC-02-2026-1.jpg
ORGANIZER;CN="Flood Gallery":MAILTO:carlos@floodgallery.org
END:VEVENT
BEGIN:VEVENT
DTSTART;TZID=UTC:20260501T190000
DTEND;TZID=UTC:20260501T213000
DTSTAMP:20260425T013127
CREATED:20260422T011702Z
LAST-MODIFIED:20260422T011807Z
UID:1332-1777662000-1777671000@floodgallery.org
SUMMARY:Foreign Film Friday: "Cinema Paradiso"
DESCRIPTION:“Cinema Paradiso” (1988\, 2h 35m\, Italy\, Drama by Giuseppe Tornatore) \nClassic movies from around the world every Friday at 7! \nYoung Salvatore Di Vita (Salvatore Cascio) discovers the perfect escape from life in his war-torn Sicilian village: the Cinema Paradiso movie house\, where projectionist Alfredo (Philippe Noiret) instills in the boy a deep love of films. When Salvatore grows up\, falls in love with a beautiful local girl (Agnese Nano) and takes over as the Paradiso’s projectionist\, Alfredo must convince Salvatore to leave his small town and pursue his passion for filmmaking.\nMultiple awards\, including Academy Award for Best International Film. \nDonation-based admission. Light refreshments available. \nCentrally located just off I-240 Exit 8; River Ridge Business Center\, Suite 1200\, 802 Fairview Rd\, Asheville 28803 (behind Hamrick’s and Sun Soo Martial Arts\, next to Hot Yoga Asheville and Asheville Dance Theater)
URL:https://floodgallery.org/event/foreign-film-friday-cinema-paradiso/
LOCATION:Flood Gallery Fine Art Center\, 802 Fairview Rd. Suite 1200\, Asheville\, NC\, 28803\, United States
CATEGORIES:movie night
ATTACH;FMTTYPE=image/jpeg:https://floodgallery.org/wp-content/uploads/cinema-3.jpg
ORGANIZER;CN="Flood Gallery":MAILTO:carlos@floodgallery.org
END:VEVENT
BEGIN:VEVENT
DTSTART;TZID=UTC:20260502T110000
DTEND;TZID=UTC:20260503T170000
DTSTAMP:20260425T013127
CREATED:20260422T040505Z
LAST-MODIFIED:20260422T040615Z
UID:1339-1777719600-1777827600@floodgallery.org
SUMMARY:"Totem" Call for Artists!
DESCRIPTION:“Totem” Group Open Exhibition at Flood Gallery\nCall for art: Mixed media • collage • sculpture • fiber art • ceramic • drawing • painting • photography found object • printmaking • all media!\nEntries due May 2-3! \n• No entry fee!\n• All perspectives\, styles\, & media\n• Limit 2 works each\n• Personal interpretation of “Totem” as theme\n• Artwork must be framed/ready to hang/display.\n• All artwork is for sale; Flood Gallery retains 35%\, so price accordingly.\n• Label each artwork with name\, title\, medium\, price\n• Email artist bio/statement to attheflood@outlook.com\n• Labeled artwork MUST be hand-delivered to Flood Gallery on Sat-Sun\, May 2-3\, 11am – 5pm\, at 802 Fairview Rd. Suite 1200\, Asheville\, NC 28803 \nOpening reception Saturday\, May 16\, 3-7pm.\nLight refreshments available\, live music TBD. \nShow runs through July.
URL:https://floodgallery.org/event/totem-call-for-artists/
LOCATION:Flood Gallery Fine Art Center\, 802 Fairview Rd. Suite 1200\, Asheville\, NC\, 28803\, United States
CATEGORIES:Call for Artists
ATTACH;FMTTYPE=image/jpeg:https://floodgallery.org/wp-content/uploads/Call-for-Artists-May2026-Totem-graphic.jpg
ORGANIZER;CN="Flood Gallery":MAILTO:carlos@floodgallery.org
END:VEVENT
BEGIN:VEVENT
DTSTART;TZID=UTC:20260504T183000
DTEND;TZID=UTC:20260504T203000
DTSTAMP:20260425T013127
CREATED:20260409T004626Z
LAST-MODIFIED:20260409T004627Z
UID:1328-1777919400-1777926600@floodgallery.org
SUMMARY:Flooded Poetry & Prose
DESCRIPTION:Poetry & prose open mic every Monday at 6:30 PM\, starring YOU plus occasional Featured Readers!\nAll styles of poetry/spoken word are welcome! Eight minutes per reader. Supportive listening room in a gallery setting. \n(Call Carlos at 828-273-3332 if you’d like to be a featured poet.) \n    .  \n.
URL:https://floodgallery.org/event/flooded-poetry-prose-10/
LOCATION:Flood Gallery Fine Art Center\, 802 Fairview Rd. Suite 1200\, Asheville\, NC\, 28803\, United States
CATEGORIES:open mic,poetry,prose
ATTACH;FMTTYPE=image/jpeg:https://floodgallery.org/wp-content/uploads/WEB-FBheader-POETRY.jpg
ORGANIZER;CN="Flood Gallery":MAILTO:carlos@floodgallery.org
END:VEVENT
BEGIN:VEVENT
DTSTART;TZID=UTC:20260507T180000
DTEND;TZID=UTC:20260507T203000
DTSTAMP:20260425T013127
CREATED:20260406T234749Z
LAST-MODIFIED:20260406T234749Z
UID:1281-1778176800-1778185800@floodgallery.org
SUMMARY:True Home Open Mic
DESCRIPTION:Join us every Thursday from 6:30pm – 8:30pm for music\, poetry\, comedy and stories performed by our favorite local artists! Feel free to bring your own food/drinks or anything you’d like to share! Supportive listening room in an art gallery setting. \nSign up begins at 6pm\, show begins at 6:30pm. Each performer will have twelve minutes\, and the show is always livestreamed on our Facebook account.
URL:https://floodgallery.org/event/true-home-open-mic-57/
LOCATION:Flood Gallery Fine Art Center\, 802 Fairview Rd. Suite 1200\, Asheville\, NC\, 28803\, United States
CATEGORIES:open mic,poetry
ATTACH;FMTTYPE=image/jpeg:https://floodgallery.org/wp-content/uploads/WEB-FBheader-OPEN-MIC-02-2026-1.jpg
ORGANIZER;CN="Flood Gallery":MAILTO:carlos@floodgallery.org
END:VEVENT
BEGIN:VEVENT
DTSTART;TZID=UTC:20260509T183000
DTEND;TZID=UTC:20260509T210000
DTSTAMP:20260425T013127
CREATED:20260423T020108Z
LAST-MODIFIED:20260423T020200Z
UID:1355-1778351400-1778360400@floodgallery.org
SUMMARY:Experimental Music Concert
DESCRIPTION:Details coming soon!
URL:https://floodgallery.org/event/experimental-music-concert/
LOCATION:Flood Gallery Fine Art Center\, 802 Fairview Rd. Suite 1200\, Asheville\, NC\, 28803\, United States
CATEGORIES:Concert,Experimental Art,Live Music
ATTACH;FMTTYPE=image/jpeg:https://floodgallery.org/wp-content/uploads/516310638_1396147102511147_2592412380905767349_n.jpg
ORGANIZER;CN="Flood Gallery":MAILTO:carlos@floodgallery.org
END:VEVENT
BEGIN:VEVENT
DTSTART;TZID=UTC:20260511T183000
DTEND;TZID=UTC:20260511T203000
DTSTAMP:20260425T013127
CREATED:20260409T004915Z
LAST-MODIFIED:20260409T004915Z
UID:1330-1778524200-1778531400@floodgallery.org
SUMMARY:Flooded Poetry & Prose
DESCRIPTION:Poetry & prose open mic every Monday at 6:30 PM\, starring YOU plus occasional Featured Readers!\nAll styles of poetry/spoken word are welcome! Eight minutes per reader. Supportive listening room in a gallery setting. \n(Call Carlos at 828-273-3332 if you’d like to be a featured poet.) \n    .  \n.
URL:https://floodgallery.org/event/flooded-poetry-prose-11/
LOCATION:Flood Gallery Fine Art Center\, 802 Fairview Rd. Suite 1200\, Asheville\, NC\, 28803\, United States
CATEGORIES:open mic,poetry,prose
ATTACH;FMTTYPE=image/jpeg:https://floodgallery.org/wp-content/uploads/WEB-FBheader-POETRY.jpg
ORGANIZER;CN="Flood Gallery":MAILTO:carlos@floodgallery.org
END:VEVENT
BEGIN:VEVENT
DTSTART;TZID=UTC:20260514T180000
DTEND;TZID=UTC:20260514T203000
DTSTAMP:20260425T013127
CREATED:20260406T235522Z
LAST-MODIFIED:20260406T235522Z
UID:1286-1778781600-1778790600@floodgallery.org
SUMMARY:True Home Open Mic
DESCRIPTION:Join us every Thursday from 6:30pm – 8:30pm for music\, poetry\, comedy and stories performed by our favorite local artists! Feel free to bring your own food/drinks or anything you’d like to share! Supportive listening room in an art gallery setting. \nSign up begins at 6pm\, show begins at 6:30pm. Each performer will have twelve minutes\, and the show is always livestreamed on our Facebook account.
URL:https://floodgallery.org/event/true-home-open-mic-59/
LOCATION:Flood Gallery Fine Art Center\, 802 Fairview Rd. Suite 1200\, Asheville\, NC\, 28803\, United States
CATEGORIES:open mic,poetry
ATTACH;FMTTYPE=image/jpeg:https://floodgallery.org/wp-content/uploads/WEB-FBheader-OPEN-MIC-02-2026-1.jpg
ORGANIZER;CN="Flood Gallery":MAILTO:carlos@floodgallery.org
END:VEVENT
BEGIN:VEVENT
DTSTART;TZID=UTC:20260516T150000
DTEND;TZID=UTC:20260516T190000
DTSTAMP:20260425T013127
CREATED:20260422T041722Z
LAST-MODIFIED:20260422T041722Z
UID:1345-1778943600-1778958000@floodgallery.org
SUMMARY:"Totem" Opening Reception!
DESCRIPTION:“Totem” Group Open Exhibition at Flood Gallery\nGroup show featuring 25+ artists inspired by the title’s theme\, “Totem”\, any media\, style\, and interpretation.\nMixed media • collage • sculpture • fiber art • ceramic • drawing • painting • photography found object • printmaking • all media! \nIf interested in submitting\, see Submission Guidelines: \n• No entry fee! • All perspectives\, styles\, & media • Limit 2 works each • Personal interpretation of “Totem” as theme • Artwork must be framed/ready to hang/display. • All artwork is for sale; Flood Gallery retains 35%\, so price accordingly. • Label each artwork with name\, title\, medium\, price • Email artist bio/statement to attheflood@outlook.com • Labeled artwork MUST be hand-delivered to Flood Gallery on Sat-Sun\,May 2-3\, 11am – 5pm\, at 802 Fairview Rd. Suite 1200\, Asheville\, NC 28803 \nOpening reception Saturday\, May 16\, 3-7pm.\nLight refreshments available\, live music TBD. \nShow runs through July.
URL:https://floodgallery.org/event/totem-opening-reception/
LOCATION:Flood Gallery Fine Art Center\, 802 Fairview Rd. Suite 1200\, Asheville\, NC\, 28803\, United States
CATEGORIES:Opening Reception
ATTACH;FMTTYPE=image/jpeg:https://floodgallery.org/wp-content/uploads/Opening-May2026-Totem-graphic.jpg
ORGANIZER;CN="Flood Gallery":MAILTO:carlos@floodgallery.org
END:VEVENT
BEGIN:VEVENT
DTSTART;TZID=UTC:20260521T180000
DTEND;TZID=UTC:20260521T203000
DTSTAMP:20260425T013127
CREATED:20260406T235245Z
LAST-MODIFIED:20260406T235318Z
UID:1284-1779386400-1779395400@floodgallery.org
SUMMARY:True Home Open Mic
DESCRIPTION:Join us every Thursday from 6:30pm – 8:30pm for music\, poetry\, comedy and stories performed by our favorite local artists! Feel free to bring your own food/drinks or anything you’d like to share! Supportive listening room in an art gallery setting. \nSign up begins at 6pm\, show begins at 6:30pm. Each performer will have twelve minutes\, and the show is always livestreamed on our Facebook account.
URL:https://floodgallery.org/event/true-home-open-mic-58/
LOCATION:Flood Gallery Fine Art Center\, 802 Fairview Rd. Suite 1200\, Asheville\, NC\, 28803\, United States
CATEGORIES:open mic,poetry
ATTACH;FMTTYPE=image/jpeg:https://floodgallery.org/wp-content/uploads/WEB-FBheader-OPEN-MIC-02-2026-1.jpg
ORGANIZER;CN="Flood Gallery":MAILTO:carlos@floodgallery.org
END:VEVENT
BEGIN:VEVENT
DTSTART;TZID=UTC:20260526T183000
DTEND;TZID=UTC:20260526T203000
DTSTAMP:20260425T013127
CREATED:20260306T172944Z
LAST-MODIFIED:20260407T001910Z
UID:1256-1779820200-1779827400@floodgallery.org
SUMMARY:Let's Film AVL!
DESCRIPTION:Lights. Camera. Asheville! \nJoin “Let’s Film AVL” at Flood Gallery — Where Local Creatives Turn Ideas Into Movies \n• Every last Tuesday of the month!\n• Creative filmmaking meet up for actors\, filmmakers\, writers\, etc.\n• Focused on developing film ideas\n• Goal is to identify and select a story that will be then filmed by the group! \nMeetup at Flood Gallery Fine Art Center\nCentrally located just off I-240 Exit 8; River Ridge Business Center\, Suite 1200\, 802 Fairview Rd\, Asheville 28803 (behind Hamrick’s and Sun Soo Martial Arts\, next to Hot Yoga Asheville and Asheville Dance Theater) \n  
URL:https://floodgallery.org/event/lets-film-avl-4/
LOCATION:Flood Gallery Fine Art Center\, 802 Fairview Rd. Suite 1200\, Asheville\, NC\, 28803\, United States
CATEGORIES:cathartic writing workshop,Film Workshop,movie night
ATTACH;FMTTYPE=image/jpeg:https://floodgallery.org/wp-content/uploads/Lets-Film-AVL-Header-sm-orange.jpg
ORGANIZER;CN="Flood Gallery":MAILTO:carlos@floodgallery.org
END:VEVENT
BEGIN:VEVENT
DTSTART;TZID=UTC:20260528T180000
DTEND;TZID=UTC:20260528T203000
DTSTAMP:20260425T013127
CREATED:20260406T235705Z
LAST-MODIFIED:20260406T235706Z
UID:1288-1779991200-1780000200@floodgallery.org
SUMMARY:True Home Open Mic
DESCRIPTION:Join us every Thursday from 6:30pm – 8:30pm for music\, poetry\, comedy and stories performed by our favorite local artists! Feel free to bring your own food/drinks or anything you’d like to share! Supportive listening room in an art gallery setting. \nSign up begins at 6pm\, show begins at 6:30pm. Each performer will have twelve minutes\, and the show is always livestreamed on our Facebook account.
URL:https://floodgallery.org/event/true-home-open-mic-60/
LOCATION:Flood Gallery Fine Art Center\, 802 Fairview Rd. Suite 1200\, Asheville\, NC\, 28803\, United States
CATEGORIES:open mic,poetry
ATTACH;FMTTYPE=image/jpeg:https://floodgallery.org/wp-content/uploads/WEB-FBheader-OPEN-MIC-02-2026-1.jpg
ORGANIZER;CN="Flood Gallery":MAILTO:carlos@floodgallery.org
END:VEVENT
BEGIN:VEVENT
DTSTART;TZID=UTC:20260604T180000
DTEND;TZID=UTC:20260604T203000
DTSTAMP:20260425T013127
CREATED:20260406T235828Z
LAST-MODIFIED:20260406T235829Z
UID:1290-1780596000-1780605000@floodgallery.org
SUMMARY:True Home Open Mic
DESCRIPTION:Join us every Thursday from 6:30pm – 8:30pm for music\, poetry\, comedy and stories performed by our favorite local artists! Feel free to bring your own food/drinks or anything you’d like to share! Supportive listening room in an art gallery setting. \nSign up begins at 6pm\, show begins at 6:30pm. Each performer will have twelve minutes\, and the show is always livestreamed on our Facebook account.
URL:https://floodgallery.org/event/true-home-open-mic-61/
LOCATION:Flood Gallery Fine Art Center\, 802 Fairview Rd. Suite 1200\, Asheville\, NC\, 28803\, United States
CATEGORIES:open mic,poetry
ATTACH;FMTTYPE=image/jpeg:https://floodgallery.org/wp-content/uploads/WEB-FBheader-OPEN-MIC-02-2026-1.jpg
ORGANIZER;CN="Flood Gallery":MAILTO:carlos@floodgallery.org
END:VEVENT
BEGIN:VEVENT
DTSTART;TZID=UTC:20260611T180000
DTEND;TZID=UTC:20260611T203000
DTSTAMP:20260425T013127
CREATED:20260406T235939Z
LAST-MODIFIED:20260406T235939Z
UID:1292-1781200800-1781209800@floodgallery.org
SUMMARY:True Home Open Mic
DESCRIPTION:Join us every Thursday from 6:30pm – 8:30pm for music\, poetry\, comedy and stories performed by our favorite local artists! Feel free to bring your own food/drinks or anything you’d like to share! Supportive listening room in an art gallery setting. \nSign up begins at 6pm\, show begins at 6:30pm. Each performer will have twelve minutes\, and the show is always livestreamed on our Facebook account.
URL:https://floodgallery.org/event/true-home-open-mic-62/
LOCATION:Flood Gallery Fine Art Center\, 802 Fairview Rd. Suite 1200\, Asheville\, NC\, 28803\, United States
CATEGORIES:open mic,poetry
ATTACH;FMTTYPE=image/jpeg:https://floodgallery.org/wp-content/uploads/WEB-FBheader-OPEN-MIC-02-2026-1.jpg
ORGANIZER;CN="Flood Gallery":MAILTO:carlos@floodgallery.org
END:VEVENT
END:VCALENDAR