BEGIN:VCALENDAR
VERSION:2.0
PRODID:-//Flood Gallery Fine Art Center - ECPv6.15.15//NONSGML v1.0//EN
CALSCALE:GREGORIAN
METHOD:PUBLISH
X-ORIGINAL-URL:https://floodgallery.org
X-WR-CALDESC:Events for Flood Gallery Fine Art Center
REFRESH-INTERVAL;VALUE=DURATION:PT1H
X-Robots-Tag:noindex
X-PUBLISHED-TTL:PT1H
BEGIN:VTIMEZONE
TZID:UTC
BEGIN:STANDARD
TZOFFSETFROM:+0000
TZOFFSETTO:+0000
TZNAME:UTC
DTSTART:20250101T000000
END:STANDARD
END:VTIMEZONE
BEGIN:VEVENT
DTSTART;TZID=UTC:20260302T183000
DTEND;TZID=UTC:20260302T203000
DTSTAMP:20260424T221138
CREATED:20260207T202004Z
LAST-MODIFIED:20260207T202004Z
UID:1185-1772476200-1772483400@floodgallery.org
SUMMARY:Flooded Poetry & Prose
DESCRIPTION:Poetry & prose open mic every Monday at 6:30 PM\, starring YOU plus occasional Featured Readers!\nAll styles of poetry/spoken word are welcome! Eight minutes per reader. Supportive listening room in a gallery setting. \n(Call Carlos at 828-273-3332 if you’d like to be a featured poet.) \n    .  \n.
URL:https://floodgallery.org/event/flooded-poetry-prose-3/
LOCATION:Flood Gallery Fine Art Center\, 802 Fairview Rd. Suite 1200\, Asheville\, NC\, 28803\, United States
CATEGORIES:open mic,poetry,prose
ATTACH;FMTTYPE=image/jpeg:https://floodgallery.org/wp-content/uploads/WEB-FBheader-POETRY.jpg
ORGANIZER;CN="Flood Gallery":MAILTO:carlos@floodgallery.org
END:VEVENT
BEGIN:VEVENT
DTSTART;TZID=UTC:20260305T180000
DTEND;TZID=UTC:20260305T203000
DTSTAMP:20260424T221138
CREATED:20260207T200220Z
LAST-MODIFIED:20260207T200220Z
UID:1172-1772733600-1772742600@floodgallery.org
SUMMARY:True Home Open Mic
DESCRIPTION:Join us every Thursday from 6:30pm – 8:30pm for music\, poetry\, comedy and stories performed by our favorite local artists! Feel free to bring your own food/drinks or anything you’d like to share! Supportive listening room in an art gallery setting. \nSign up begins at 6pm\, show begins at 6:30pm. Each performer will have twelve minutes\, and the show is always livestreamed on our Facebook account.
URL:https://floodgallery.org/event/true-home-open-mic-49/
LOCATION:Flood Gallery Fine Art Center\, 802 Fairview Rd. Suite 1200\, Asheville\, NC\, 28803\, United States
CATEGORIES:open mic,poetry
ATTACH;FMTTYPE=image/jpeg:https://floodgallery.org/wp-content/uploads/WEB-FBheader-OPEN-MIC-02-2026-1.jpg
ORGANIZER;CN="Flood Gallery":MAILTO:carlos@floodgallery.org
END:VEVENT
BEGIN:VEVENT
DTSTART;TZID=UTC:20260306T190000
DTEND;TZID=UTC:20260306T210000
DTSTAMP:20260424T221138
CREATED:20260302T202018Z
LAST-MODIFIED:20260302T202019Z
UID:1221-1772823600-1772830800@floodgallery.org
SUMMARY:Foreign Film Friday: "Quest for Fire" (La Guerre du feu) by Annaud
DESCRIPTION:(1981\, 1h 40m\, Canada/France\, Adventure/Fantasy by Jean-Jacques Annaud) \nClassic movies from around the world every Friday!\nDonation-based admission. Light refreshments available. \nThe Canadian-French co-production is a film adaptation of the 1911 Belgian novel “The Quest for Fire” by J.-H. Rosny. The story is set “80\,000 years ago”\, with a plot concerning the struggle for control of fire by early humans and their encounters with different hominid species. \nIn the prehistoric world\, a Cro-Magnon tribe depends on an ever-burning source of fire\, which eventually extinguishes. Lacking the knowledge to start a new fire\, the tribe sends three warriors (Everett McGill\, Ron Perlman\, Nameer El-Kadi) on a quest for more. With the tribe’s future at stake\, the warriors make their way across a treacherous landscape full of hostile tribes and monstrous beasts. On their journey\, they encounter Ika (Rae Dawn Chong)\, a woman who has the knowledge they seek. \nAcademy Awards (1983): Won Best Makeup (Sarah Monzani\, Michèle Burke).\nCésar Awards (1982): Won Best Film and Best Director (Jean-Jacques Annaud); Nominated for Best Cinematography\, Music\, and Production Design.\nGenie Awards (1983): Won 5 awards: Best Actress (Rae Dawn Chong)\, Costume Design\, Editing\, Sound\, and Sound Editing.\nBAFTA Awards (1983): Won Best Makeup/Hair.\nGolden Globes (1983): Nominated for Best Foreign Film.\nSaturn Awards (1981): Won Best International Film. \n.
URL:https://floodgallery.org/event/foreign-film-friday-quest-for-fire-la-guerre-du-feu-by-annaud/
LOCATION:Flood Gallery Fine Art Center\, 802 Fairview Rd. Suite 1200\, Asheville\, NC\, 28803\, United States
CATEGORIES:movie night
ATTACH;FMTTYPE=image/png:https://floodgallery.org/wp-content/uploads/qstff-3.png
ORGANIZER;CN="Flood Gallery":MAILTO:carlos@floodgallery.org
END:VEVENT
BEGIN:VEVENT
DTSTART;TZID=UTC:20260312T180000
DTEND;TZID=UTC:20260312T203000
DTSTAMP:20260424T221138
CREATED:20260207T200329Z
LAST-MODIFIED:20260207T200330Z
UID:1174-1773338400-1773347400@floodgallery.org
SUMMARY:True Home Open Mic
DESCRIPTION:Join us every Thursday from 6:30pm – 8:30pm for music\, poetry\, comedy and stories performed by our favorite local artists! Feel free to bring your own food/drinks or anything you’d like to share! Supportive listening room in an art gallery setting. \nSign up begins at 6pm\, show begins at 6:30pm. Each performer will have twelve minutes\, and the show is always livestreamed on our Facebook account.
URL:https://floodgallery.org/event/true-home-open-mic-50/
LOCATION:Flood Gallery Fine Art Center\, 802 Fairview Rd. Suite 1200\, Asheville\, NC\, 28803\, United States
CATEGORIES:open mic,poetry
ATTACH;FMTTYPE=image/jpeg:https://floodgallery.org/wp-content/uploads/WEB-FBheader-OPEN-MIC-02-2026-1.jpg
ORGANIZER;CN="Flood Gallery":MAILTO:carlos@floodgallery.org
END:VEVENT
BEGIN:VEVENT
DTSTART;TZID=UTC:20260313T190000
DTEND;TZID=UTC:20260313T210000
DTSTAMP:20260424T221138
CREATED:20260302T202653Z
LAST-MODIFIED:20260302T202756Z
UID:1237-1773428400-1773435600@floodgallery.org
SUMMARY:Foreign Film Friday: "Life is Beautiful" (La vita è bella) by Benigni
DESCRIPTION:(“La vita è bella”) (1997\, 1h 58m\, Italy\, War/Comedy by Roberto Benigni) \nClassic movies from around the world every Friday!\nDonation-based admission. Light refreshments available. \nWhen an open-minded Jewish waiter and his son become victims of the Holocaust\, he uses a perfect mixture of will\, humor and imagination to protect his son from the dangers around their camp. \nA gentle Jewish-Italian waiter\, Guido Orefice (Roberto Benigni)\, meets Dora (Nicoletta Braschi)\, a pretty schoolteacher\, and wins her over with his charm and humor. Eventually they marry and have a son\, Giosue (Giorgio Cantarini). Their happiness is abruptly halted\, however\, when Guido and Giosue are separated from Dora and taken to a concentration camp. Determined to shelter his son from the horrors of his surroundings\, Guido convinces Giosue that their time in the camp is merely a game. \nAcademy Awards (Oscars) – 1999\nThe film was nominated for seven Academy Awards and won three:\nBest Actor: Roberto Benigni\nBest Foreign Language Film: Italy\nBest Original Dramatic Score: Nicola Piovani\nNominations: Best Picture\, Best Director (Roberto Benigni)\, Best Original Screenplay (Vincenzo Cerami\, Roberto Benigni)\, and Film Editing. \nCannes Film Festival – 1998 \nGrand Prix (Grand Jury Prize): Roberto Benigni \nDavid di Donatello Awards (Italy) – 1998 \nBest Film\nBest Director: Roberto Benigni\nBest Actor: Roberto Benigni\nBest Script: Roberto Benigni\, Vincenzo Cerami\nBest Producer: Elda Ferri\, Gianluigi Braschi\nBest Production Design: Danilo Donati\nBest Costumes: Danilo Donati\nBest Cinematography: Tonino Delli Colli\nBest Editing: Simona Paggi \nOther Major Awards\nBAFTA Awards (1999): Best Actor (Roberto Benigni)\nEuropean Film Awards (1998): Best Film\, Best Actor (Roberto Benigni)\nNastro d’Argento (Italy – 1999): Best Director\, Best Actor\, Best Script\nCésar Awards (France – 1999): Best Foreign Film\nGolden Ciak Awards (1998): Best Film\, Best Director\, Best Actor\, Best Actress (Nicoletta Braschi)\nCritics’ Choice Movie Awards (1999): Best Foreign Language Film \n. \n.
URL:https://floodgallery.org/event/foreign-film-friday-life-is-beautiful-la-vita-e-bella-by-benigni/
LOCATION:Flood Gallery Fine Art Center\, 802 Fairview Rd. Suite 1200\, Asheville\, NC\, 28803\, United States
CATEGORIES:movie night
ATTACH;FMTTYPE=image/png:https://floodgallery.org/wp-content/uploads/LifeisB-2.png
ORGANIZER;CN="Flood Gallery":MAILTO:carlos@floodgallery.org
END:VEVENT
BEGIN:VEVENT
DTSTART;TZID=UTC:20260314T110000
DTEND;TZID=UTC:20260315T170000
DTSTAMP:20260424T221138
CREATED:20260218T122503Z
LAST-MODIFIED:20260302T233322Z
UID:1202-1773486000-1773594000@floodgallery.org
SUMMARY:Call for Artists!
DESCRIPTION:Open art call for any genre/media ready-to-display art inspired by the show theme. \nGroup show featuring 25+ artists inspired by the title’s theme\, “Transformation”\, any media\, style\, and interpretation. Unjuried. \n• No entry fee! • Limit 2 works\n• Must be framed and ready to hang/display.\n• No NFS; Flood Gallery retains 35%.\n• Label artwork with name\, title\, medium\, price\, and artist bio/statement.\n• Hand-deliver Sat-Sun\, March 14-15\, 11am – 5pm\, at Flood Gallery Fine Art Center\, 802 Fairview Rd. Suite 1200\, Asheville\, NC 28803. \nOpening March 21\, 3-7pm. \nShow runs through May 1. \nPrint and fill out below form\, or fill out at Flood Gallery during drop-off.
URL:https://floodgallery.org/event/call-for-artists/
LOCATION:Flood Gallery Fine Art Center\, 802 Fairview Rd. Suite 1200\, Asheville\, NC\, 28803\, United States
CATEGORIES:Call for Artists
ATTACH;FMTTYPE=image/jpeg:https://floodgallery.org/wp-content/uploads/Exhibit-Poster-Transformation-header.jpg
ORGANIZER;CN="Flood Gallery":MAILTO:carlos@floodgallery.org
END:VEVENT
BEGIN:VEVENT
DTSTART;TZID=UTC:20260319T180000
DTEND;TZID=UTC:20260319T203000
DTSTAMP:20260424T221138
CREATED:20260207T200452Z
LAST-MODIFIED:20260207T200452Z
UID:1176-1773943200-1773952200@floodgallery.org
SUMMARY:True Home Open Mic
DESCRIPTION:Join us every Thursday from 6:30pm – 8:30pm for music\, poetry\, comedy and stories performed by our favorite local artists! Feel free to bring your own food/drinks or anything you’d like to share! Supportive listening room in an art gallery setting. \nSign up begins at 6pm\, show begins at 6:30pm. Each performer will have twelve minutes\, and the show is always livestreamed on our Facebook account.
URL:https://floodgallery.org/event/true-home-open-mic-51/
LOCATION:Flood Gallery Fine Art Center\, 802 Fairview Rd. Suite 1200\, Asheville\, NC\, 28803\, United States
CATEGORIES:open mic,poetry
ATTACH;FMTTYPE=image/jpeg:https://floodgallery.org/wp-content/uploads/WEB-FBheader-OPEN-MIC-02-2026-1.jpg
ORGANIZER;CN="Flood Gallery":MAILTO:carlos@floodgallery.org
END:VEVENT
BEGIN:VEVENT
DTSTART;TZID=UTC:20260320T190000
DTEND;TZID=UTC:20260320T213000
DTSTAMP:20260424T221138
CREATED:20260302T203402Z
LAST-MODIFIED:20260302T203402Z
UID:1239-1774033200-1774042200@floodgallery.org
SUMMARY:Foreign Film Friday: "The Girl with the Dragon Tattoo" by Oplev
DESCRIPTION:(2009\, 2h 33m\, Sweden\, Thriller/Crime by Niels Arden Oplev) \nClassic movies from around the world every Friday!\nDonation-based admission. Light refreshments available. \nSwedish thriller based on Stieg Larsson’s novel about disgraced journalist Mikael Blomkvist (Michael Nyqvist) and genius hacker Lisbeth Salander (Noomi Rapace) who investigate the 40-year-old disappearance of Harriet Vanger from her wealthy\, dysfunctional family. They uncover a dark history of serial murders\, neo-Nazism\, and sexual violence\, ultimately solving the cold case while Salander seeks vengeance against her own abusive guardian. \nBAFTA Awards: Won Best Film Not in the English Language.\nEmpire Awards: Won Best Actress (Noomi Rapace) and Best Thriller.\nSatellite Awards: Won Best Motion Picture\, Foreign Language Film.
URL:https://floodgallery.org/event/foreign-film-friday-the-girl-with-the-dragon-tattoo-by-oplev/
LOCATION:Flood Gallery Fine Art Center\, 802 Fairview Rd. Suite 1200\, Asheville\, NC\, 28803\, United States
CATEGORIES:movie night
ATTACH;FMTTYPE=image/png:https://floodgallery.org/wp-content/uploads/grldrgntat-2.png
ORGANIZER;CN="Flood Gallery":MAILTO:carlos@floodgallery.org
END:VEVENT
BEGIN:VEVENT
DTSTART;TZID=UTC:20260321T150000
DTEND;TZID=UTC:20260321T190000
DTSTAMP:20260424T221138
CREATED:20260302T224446Z
LAST-MODIFIED:20260302T224447Z
UID:1245-1774105200-1774119600@floodgallery.org
SUMMARY:Open Art Exhibition: “Transformation”
DESCRIPTION:Flood Gallery Fine Art Center announces its next open exhibition\, featuring 25+ local artists showing multiple perspectives & styles\, inspired by the title’s theme\, “Transformation”. Art media for this show may include ceramic\, stained glass\, painting\, drawing\, photography\, collage\, printmaking\, ceramic\, enamel\, fiber arts\, digital media\, and mixed media.\nOpening Reception: Saturday\, March 21\, 3-7pm\nLight refreshments available\, live music TBD.\nShow runs through May 1. \nIf interested in submitting\, see Submission Guidelines:\n• No entry fee! • Artists of all perspectives\, styles\, & media\n• Theme for inspiration & own interpretation: “Transformation”\n• Limit 2 works per Artist\n• ~25 Artist limit; first come\, first hung!\n• Artwork must be framed and ready to hang/display.\n• Artwork should be for sale. Flood Gallery retains 35%\, so price accordingly.\n• Label each artwork with name\, title\, medium\, price\, and artist bio/statement.\n• Labels can be downloaded from our Facebook page\, or filled out during art submission.\n• Labeled artwork must be hand-delivered to Flood Gallery on Sat-Sun\, March 14-15\, 11am – 5pm. \nFlood Gallery Fine Art Center\n802 Fairview Rd. Suite 1200\, Asheville\, NC 28803 (Located off I-240 Exit 8\, River Ridge Business Center\, behind Sun Soo Martial Arts\, next to Hot Yoga Asheville & Asheville Dance Theater)
URL:https://floodgallery.org/event/open-art-exhibition-transformation/
LOCATION:Flood Gallery Fine Art Center\, 802 Fairview Rd. Suite 1200\, Asheville\, NC\, 28803\, United States
CATEGORIES:Call for Artists,Opening Reception
ATTACH;FMTTYPE=image/jpeg:https://floodgallery.org/wp-content/uploads/Exhibit-Poster-Transformation-header.jpg
ORGANIZER;CN="Flood Gallery":MAILTO:carlos@floodgallery.org
END:VEVENT
BEGIN:VEVENT
DTSTART;TZID=UTC:20260326T180000
DTEND;TZID=UTC:20260326T203000
DTSTAMP:20260424T221138
CREATED:20260207T200623Z
LAST-MODIFIED:20260207T200623Z
UID:1178-1774548000-1774557000@floodgallery.org
SUMMARY:True Home Open Mic
DESCRIPTION:Join us every Thursday from 6:30pm – 8:30pm for music\, poetry\, comedy and stories performed by our favorite local artists! Feel free to bring your own food/drinks or anything you’d like to share! Supportive listening room in an art gallery setting. \nSign up begins at 6pm\, show begins at 6:30pm. Each performer will have twelve minutes\, and the show is always livestreamed on our Facebook account.
URL:https://floodgallery.org/event/true-home-open-mic-52/
LOCATION:Flood Gallery Fine Art Center\, 802 Fairview Rd. Suite 1200\, Asheville\, NC\, 28803\, United States
CATEGORIES:open mic,poetry
ATTACH;FMTTYPE=image/jpeg:https://floodgallery.org/wp-content/uploads/WEB-FBheader-OPEN-MIC-02-2026-1.jpg
ORGANIZER;CN="Flood Gallery":MAILTO:carlos@floodgallery.org
END:VEVENT
BEGIN:VEVENT
DTSTART;TZID=UTC:20260327T190000
DTEND;TZID=UTC:20260327T210000
DTSTAMP:20260424T221138
CREATED:20260302T203914Z
LAST-MODIFIED:20260302T203914Z
UID:1241-1774638000-1774645200@floodgallery.org
SUMMARY:Foreign Film Friday: "Blow-up" by Antonioni
DESCRIPTION:(1966\, 1h 51m\, United Kingdom\, Thriller/Mystery by Michelangelo Antonioni) \nClassic movies from around the world every Friday!\nDonation-based admission. Light refreshments available. \nA successful mod photographer in London whose world is bounded by fashion\, pop music\, marijuana\, and easy sex\, feels his life is boring and despairing. But in the course of a single day he unknowingly captures a death on film. \nIn 1966\, Michelangelo Antonioni transplanted his existentialist ennui to the streets of swinging London for this international sensation\, the Italian filmmaker’s first English-language feature. A countercultural masterpiece about the act of seeing and the art of image making\, Blow-Up takes the form of a psychological mystery\, starring David Hemmings as a fashion photographer who unknowingly captures a death on film after following two lovers in a park. Antonioni’s meticulous aesthetic control and intoxicating color palette breathe life into every frame\, and the jazzy sounds of Herbie Hancock\, a beautifully evasive performance by Vanessa Redgrave\, and a cameo by the Yardbirds make the film a transporting time capsule from a bygone era. Blow-Up is a seductive immersion into creative passion\, and a brilliant film by one of cinema’s greatest artists. \nCannes Film Festival: won the Palme d’Or\nAcademy Awards: nominated for Best Director and Best Original Screenplay. \nThe film was also nominated for three BAFTA Awards\, including Outstanding British Film. \n \n 
URL:https://floodgallery.org/event/foreign-film-friday-blow-up-by-antonioni/
LOCATION:Flood Gallery Fine Art Center\, 802 Fairview Rd. Suite 1200\, Asheville\, NC\, 28803\, United States
CATEGORIES:movie night
ATTACH;FMTTYPE=image/jpeg:https://floodgallery.org/wp-content/uploads/blwup-3.jpg
ORGANIZER;CN="Flood Gallery":MAILTO:carlos@floodgallery.org
END:VEVENT
BEGIN:VEVENT
DTSTART;TZID=UTC:20260331T183000
DTEND;TZID=UTC:20260331T203000
DTSTAMP:20260424T221138
CREATED:20260306T172607Z
LAST-MODIFIED:20260306T172607Z
UID:1252-1774981800-1774989000@floodgallery.org
SUMMARY:Let's Film AVL!
DESCRIPTION:Lights. Camera. Asheville! \nJoin “Let’s Film AVL” at Flood Gallery — Where Local Creatives Turn Ideas Into Movies \n• Every last Tuesday of the month!\n• Creative filmmaking meet up for actors\, filmmakers\, writers\, etc.\n• Focused on developing film ideas\n• Goal is to identify and select a story that will be then filmed by the group! \nMeetup at Flood Gallery Fine Art Center\nCentrally located just off I-240 Exit 8; River Ridge Business Center\, Suite 1200\, 802 Fairview Rd\, Asheville 28803 (behind Hamrick’s and Sun Soo Martial Arts\, next to Hot Yoga Asheville and Asheville Dance Theater) \n  
URL:https://floodgallery.org/event/lets-film-avl-2/
LOCATION:Flood Gallery Fine Art Center\, 802 Fairview Rd. Suite 1200\, Asheville\, NC\, 28803\, United States
CATEGORIES:cathartic writing workshop,Film Workshop,movie night
ATTACH;FMTTYPE=image/jpeg:https://floodgallery.org/wp-content/uploads/Lets-Film-AVL-Header-sm.jpg
ORGANIZER;CN="Flood Gallery":MAILTO:carlos@floodgallery.org
END:VEVENT
END:VCALENDAR